BEGIN:VCALENDAR
VERSION:2.0
PRODID:-//杉玉 Sugidama: Sake blog - ECPv6.15.17.1//NONSGML v1.0//EN
CALSCALE:GREGORIAN
METHOD:PUBLISH
X-ORIGINAL-URL:https://www.sugidama.co.uk
X-WR-CALDESC:Events for 杉玉 Sugidama: Sake blog
REFRESH-INTERVAL;VALUE=DURATION:PT1H
X-Robots-Tag:noindex
X-PUBLISHED-TTL:PT1H
BEGIN:VTIMEZONE
TZID:UTC
BEGIN:STANDARD
TZOFFSETFROM:+0000
TZOFFSETTO:+0000
TZNAME:UTC
DTSTART:20170101T000000
END:STANDARD
END:VTIMEZONE
BEGIN:VEVENT
DTSTART;VALUE=DATE:20180520
DTEND;VALUE=DATE:20180521
DTSTAMP:20260420T080803
CREATED:20180509T182343Z
LAST-MODIFIED:20190425T105934Z
UID:267-1526774400-1526860799@www.sugidama.co.uk
SUMMARY:London Sake Challenge
DESCRIPTION:Directed by the Sake Sommelier Association\, the London Sake Challenge is one of the most globally prestigious sake competitions and Europe’s oldest sake contest. \nShare this:\n				Share on LinkedIn (Opens in new window)\n				LinkedIn\n			\n				Share on Facebook (Opens in new window)\n				Facebook\n			\n				Share on X (Opens in new window)\n				X\n			\n				Share on WhatsApp (Opens in new window)\n				WhatsApp\n			Like this:Like Loading...
URL:https://www.sugidama.co.uk/event/london-sake-challenge/
CATEGORIES:Sake Trade Event
END:VEVENT
END:VCALENDAR