BEGIN:VCALENDAR
VERSION:2.0
PRODID:-//杉玉 Sugidama: Sake blog - ECPv6.15.17.1//NONSGML v1.0//EN
CALSCALE:GREGORIAN
METHOD:PUBLISH
X-WR-CALNAME:杉玉 Sugidama: Sake blog
X-ORIGINAL-URL:https://www.sugidama.co.uk
X-WR-CALDESC:Events for 杉玉 Sugidama: Sake blog
REFRESH-INTERVAL;VALUE=DURATION:PT1H
X-Robots-Tag:noindex
X-PUBLISHED-TTL:PT1H
BEGIN:VTIMEZONE
TZID:Europe/London
BEGIN:DAYLIGHT
TZOFFSETFROM:+0000
TZOFFSETTO:+0100
TZNAME:BST
DTSTART:20170326T010000
END:DAYLIGHT
BEGIN:STANDARD
TZOFFSETFROM:+0100
TZOFFSETTO:+0000
TZNAME:GMT
DTSTART:20171029T010000
END:STANDARD
BEGIN:DAYLIGHT
TZOFFSETFROM:+0000
TZOFFSETTO:+0100
TZNAME:BST
DTSTART:20180325T010000
END:DAYLIGHT
BEGIN:STANDARD
TZOFFSETFROM:+0100
TZOFFSETTO:+0000
TZNAME:GMT
DTSTART:20181028T010000
END:STANDARD
BEGIN:DAYLIGHT
TZOFFSETFROM:+0000
TZOFFSETTO:+0100
TZNAME:BST
DTSTART:20190331T010000
END:DAYLIGHT
BEGIN:STANDARD
TZOFFSETFROM:+0100
TZOFFSETTO:+0000
TZNAME:GMT
DTSTART:20191027T010000
END:STANDARD
BEGIN:DAYLIGHT
TZOFFSETFROM:+0000
TZOFFSETTO:+0100
TZNAME:BST
DTSTART:20200329T010000
END:DAYLIGHT
BEGIN:STANDARD
TZOFFSETFROM:+0100
TZOFFSETTO:+0000
TZNAME:GMT
DTSTART:20201025T010000
END:STANDARD
END:VTIMEZONE
BEGIN:VEVENT
DTSTART;TZID=Europe/London:20190511T130000
DTEND;TZID=Europe/London:20190511T190000
DTSTAMP:20260419T193748
CREATED:20190507T105919Z
LAST-MODIFIED:20190507T113052Z
UID:2100-1557579600-1557601200@www.sugidama.co.uk
SUMMARY:Japan House Sake Tasting: Takara 宝酒造 and Hakkaisan 八海山 Breweries
DESCRIPTION:Especially for London Craft Week 2019\, Japan House is\norganising a serious of sake tasting sessions in its shop (The Shop) featuring a\nrange of different types of sake. You’ll have the opportunity to learn about\nmanufacturing methods\, as well as how to enjoy sake and what foods it can be\npaired with. \n\n\n\nThree to six different types of sake will be served daily\nthroughout the duration of London Craft Week\, from Wednesday 8 May until Sunday\n12 May. Sake specialists from the distributors and producers will be available\nto serve the sake and answer questions. \n\n\n\nTo plan your visit\, see which sake breweries are represented\ndaily: \n\n\n\n•Wednesday 8 May: Nishinoseki 西ノ関 \n\n\n\n•Thursday 9 May: Tamagawa 玉川\nand Koshi-no-Kanbai 越乃寒梅 \n\n\n\n•Friday 10 May: Hakkaisan 八海山\,\nOzeki 大関 and Hakutsuru 白鶴 \n\n\n\n•Saturday 11 May: Takara 宝酒造\nand Hakkaisan 八海山 \n\n\n\n•Sunday 12 May: Tamagawa 玉川\nand Koshi-no-Kanbai 越乃寒梅 \n\n\n\n\n\n\n\n\n\n\nShare this:\n				Share on LinkedIn (Opens in new window)\n				LinkedIn\n			\n				Share on Facebook (Opens in new window)\n				Facebook\n			\n				Share on X (Opens in new window)\n				X\n			\n				Share on WhatsApp (Opens in new window)\n				WhatsApp\n			Like this:Like Loading...
URL:https://www.sugidama.co.uk/event/japan-house-sake-tasting-takara-and-hakkaisan-breweries/
LOCATION:Japan House\, 101-111 Kensington High Street\, London\, W8 5SA\, United Kingdom
CATEGORIES:Sake Tasting
ATTACH;FMTTYPE=image/jpeg:https://www.sugidama.co.uk/wp-content/uploads/2019/05/sake-tasting1000x543.jpg
END:VEVENT
BEGIN:VEVENT
DTSTART;TZID=Europe/London:20190510T130000
DTEND;TZID=Europe/London:20190510T190000
DTSTAMP:20260419T193748
CREATED:20190507T105919Z
LAST-MODIFIED:20190507T111949Z
UID:2095-1557493200-1557514800@www.sugidama.co.uk
SUMMARY:Japan House Sake Tasting: Hakkaisan 八海山\, Ozeki 大関 and Hakutsuru 白鶴
DESCRIPTION:Especially for London Craft Week 2019\, Japan House is\norganising a serious of sake tasting sessions in its shop (The Shop) featuring a\nrange of different types of sake. You’ll have the opportunity to learn about\nmanufacturing methods\, as well as how to enjoy sake and what foods it can be\npaired with. \n\n\n\nThree to six different types of sake will be served daily\nthroughout the duration of London Craft Week\, from Wednesday 8 May until Sunday\n12 May. Sake specialists from the distributors and producers will be available\nto serve the sake and answer questions. \n\n\n\nTo plan your visit\, see which sake breweries are represented\ndaily: \n\n\n\n•Wednesday 8 May: Nishinoseki 西ノ関 \n\n\n\n•Thursday 9 May: Tamagawa 玉川\nand Koshi-no-Kanbai 越乃寒梅 \n\n\n\n•Friday 10 May: Hakkaisan 八海山\,\nOzeki 大関 and Hakutsuru 白鶴 \n\n\n\n•Saturday 11 May: Takara 宝酒造\nand Hakkaisan 八海山 \n\n\n\n•Sunday 12 May: Tamagawa 玉川\nand Koshi-no-Kanbai 越乃寒梅 \n\n\n\n\n\n\n\n\n\n\nShare this:\n				Share on LinkedIn (Opens in new window)\n				LinkedIn\n			\n				Share on Facebook (Opens in new window)\n				Facebook\n			\n				Share on X (Opens in new window)\n				X\n			\n				Share on WhatsApp (Opens in new window)\n				WhatsApp\n			Like this:Like Loading...
URL:https://www.sugidama.co.uk/event/japan-house-sake-tasting-hakkaisan-ozeki-and-hakutsuru/
LOCATION:Japan House\, 101-111 Kensington High Street\, London\, W8 5SA\, United Kingdom
CATEGORIES:Sake Tasting
ATTACH;FMTTYPE=image/jpeg:https://www.sugidama.co.uk/wp-content/uploads/2019/05/sake-tasting1000x543.jpg
END:VEVENT
BEGIN:VEVENT
DTSTART;TZID=Europe/London:20190509T130000
DTEND;TZID=Europe/London:20190509T190000
DTSTAMP:20260419T193748
CREATED:20190507T105919Z
LAST-MODIFIED:20190507T112756Z
UID:2097-1557406800-1557428400@www.sugidama.co.uk
SUMMARY:Japan House Sake Tasting: Tamagawa 玉川 and Koshi-no-Kanbai 越乃寒梅 breweries
DESCRIPTION:Especially for London Craft Week 2019\, Japan House is\norganising a serious of sake tasting sessions in its shop (The Shop) featuring a\nrange of different types of sake. You’ll have the opportunity to learn about\nmanufacturing methods\, as well as how to enjoy sake and what foods it can be\npaired with. \n\n\n\nThree to six different types of sake will be served daily\nthroughout the duration of London Craft Week\, from Wednesday 8 May until Sunday\n12 May. Sake specialists from the distributors and producers will be available\nto serve the sake and answer questions. \n\n\n\nTo plan your visit\, see which sake breweries are represented\ndaily: \n\n\n\n•Wednesday 8 May: Nishinoseki 西ノ関 \n\n\n\n•Thursday 9 May: Tamagawa 玉川\nand Koshi-no-Kanbai 越乃寒梅 \n\n\n\n•Friday 10 May: Hakkaisan 八海山\,\nOzeki 大関 and Hakutsuru 白鶴 \n\n\n\n•Saturday 11 May: Takara 宝酒造\nand Hakkaisan 八海山 \n\n\n\n•Sunday 12 May: Tamagawa 玉川\nand Koshi-no-Kanbai 越乃寒梅 \n\n\n\n\n\n\n\n\n\n\nShare this:\n				Share on LinkedIn (Opens in new window)\n				LinkedIn\n			\n				Share on Facebook (Opens in new window)\n				Facebook\n			\n				Share on X (Opens in new window)\n				X\n			\n				Share on WhatsApp (Opens in new window)\n				WhatsApp\n			Like this:Like Loading...
URL:https://www.sugidama.co.uk/event/japan-house-sake-tasting-tamagawa-and-koshi-no-kanbai-breweries/
LOCATION:Japan House\, 101-111 Kensington High Street\, London\, W8 5SA\, United Kingdom
CATEGORIES:Sake Tasting
ATTACH;FMTTYPE=image/jpeg:https://www.sugidama.co.uk/wp-content/uploads/2019/05/sake-tasting1000x543.jpg
END:VEVENT
BEGIN:VEVENT
DTSTART;TZID=Europe/London:20190508T130000
DTEND;TZID=Europe/London:20190508T190000
DTSTAMP:20260419T193748
CREATED:20190507T105919Z
LAST-MODIFIED:20190507T111022Z
UID:2090-1557320400-1557342000@www.sugidama.co.uk
SUMMARY:Japan House Sake Tasting: Nishinoseki Brewery
DESCRIPTION:Especially for London Craft Week 2019\, Japan House is\norganising a serious of sake tasting sessions in its shop (The Shop) featuring a\nrange of different types of sake. You’ll have the opportunity to learn about\nmanufacturing methods\, as well as how to enjoy sake and what foods it can be\npaired with. \n\n\n\nThree to six different types of sake will be served daily\nthroughout the duration of London Craft Week\, from Wednesday 8 May until Sunday\n12 May. Sake specialists from the distributors and producers will be available\nto serve the sake and answer questions. \n\n\n\nTo plan your visit\, see which sake breweries are represented\ndaily: \n\n\n\n•Wednesday 8 May: Nishinoseki 西ノ関 \n\n\n\n•Thursday 9 May: Tamagawa 玉川\nand Koshi-no-Kanbai 越乃寒梅 \n\n\n\n•Friday 10 May: Hakkaisan 八海山\,\nOzeki 大関 and Hakutsuru 白鶴 \n\n\n\n•Saturday 11 May: Takara 宝酒造\nand Hakkaisan 八海山 \n\n\n\n•Sunday 12 May: Tamagawa 玉川\nand Koshi-no-Kanbai 越乃寒梅 \n\n\n\n\n\n\n\n\n\n\nShare this:\n				Share on LinkedIn (Opens in new window)\n				LinkedIn\n			\n				Share on Facebook (Opens in new window)\n				Facebook\n			\n				Share on X (Opens in new window)\n				X\n			\n				Share on WhatsApp (Opens in new window)\n				WhatsApp\n			Like this:Like Loading...
URL:https://www.sugidama.co.uk/event/japan-house-sake-tasting-nishinoseki-brewery/
LOCATION:Japan House\, 101-111 Kensington High Street\, London\, W8 5SA\, United Kingdom
CATEGORIES:Sake Tasting
ATTACH;FMTTYPE=image/jpeg:https://www.sugidama.co.uk/wp-content/uploads/2019/05/sake-tasting1000x543.jpg
END:VEVENT
BEGIN:VEVENT
DTSTART;TZID=Europe/London:20190427T150000
DTEND;TZID=Europe/London:20190427T190000
DTSTAMP:20260419T193748
CREATED:20190425T103550Z
LAST-MODIFIED:20190425T104637Z
UID:1974-1556377200-1556391600@www.sugidama.co.uk
SUMMARY:North Kanto Sake Fair
DESCRIPTION:Sample speciality sake from the North Kanto region where breweries will showcase their range on Friday 26 and Saturday 27 April from 3pm-7pm and save up to 50% off selected sake. f ff \n\n\n\n\n\n\n\n\n\n\nShare this:\n				Share on LinkedIn (Opens in new window)\n				LinkedIn\n			\n				Share on Facebook (Opens in new window)\n				Facebook\n			\n				Share on X (Opens in new window)\n				X\n			\n				Share on WhatsApp (Opens in new window)\n				WhatsApp\n			Like this:Like Loading...
URL:https://www.sugidama.co.uk/event/north-kanto-sake-fair-2/
LOCATION:Ichiba Westfield\, Level -2 Westfield Shepherd's Bush\, London\, London\, W12 7HB\, United Kingdom
CATEGORIES:Sake Tasting
ATTACH;FMTTYPE=image/jpeg:https://www.sugidama.co.uk/wp-content/uploads/2019/04/Kanto-Sake-Fair.jpg
END:VEVENT
BEGIN:VEVENT
DTSTART;TZID=Europe/London:20190426T150000
DTEND;TZID=Europe/London:20190426T190000
DTSTAMP:20260419T193748
CREATED:20190425T103550Z
LAST-MODIFIED:20190425T104727Z
UID:1969-1556290800-1556305200@www.sugidama.co.uk
SUMMARY:North Kanto Sake Fair
DESCRIPTION:Sample speciality sake from the North Kanto region where breweries will showcase their range on Friday 26 and Saturday 27 April from 3pm-7pm and save up to 50% off selected sake. f ff \n\n\n\n\n\n\n\n\n\n\nShare this:\n				Share on LinkedIn (Opens in new window)\n				LinkedIn\n			\n				Share on Facebook (Opens in new window)\n				Facebook\n			\n				Share on X (Opens in new window)\n				X\n			\n				Share on WhatsApp (Opens in new window)\n				WhatsApp\n			Like this:Like Loading...
URL:https://www.sugidama.co.uk/event/north-kanto-sake-fair/
LOCATION:Ichiba Westfield\, Level -2 Westfield Shepherd's Bush\, London\, London\, W12 7HB\, United Kingdom
CATEGORIES:Sake Tasting
ATTACH;FMTTYPE=image/jpeg:https://www.sugidama.co.uk/wp-content/uploads/2019/04/Kanto-Sake-Fair.jpg
END:VEVENT
BEGIN:VEVENT
DTSTART;TZID=Europe/London:20190221T123000
DTEND;TZID=Europe/London:20190223T193000
DTSTAMP:20260419T193748
CREATED:20190221T070411Z
LAST-MODIFIED:20190425T105250Z
UID:1496-1550752200-1550950200@www.sugidama.co.uk
SUMMARY:TASTINGS & TALK  Sake Week at Japan House  日本酒トークと試飲会
DESCRIPTION:To celebrate the start of London Sake Week organized by JFOODO\, Japan House is collaborating with NTA to offer sake tasting over three days. \nThere will also be an introduction to sake and tutored sake tasting session for those who would like to gain a deeper understanding of this versatile alternative to wine. \nSake tastings:\nThursday\, Friday & Saturday 21-23 February\, 12:30-15:30 & 17:00-19:30\nThe Stand on the Ground Floor at Japan House \nShare this:\n				Share on LinkedIn (Opens in new window)\n				LinkedIn\n			\n				Share on Facebook (Opens in new window)\n				Facebook\n			\n				Share on X (Opens in new window)\n				X\n			\n				Share on WhatsApp (Opens in new window)\n				WhatsApp\n			Like this:Like Loading...
URL:https://www.sugidama.co.uk/event/tastings-talk-sake-week-at-japan-house-%e6%97%a5%e6%9c%ac%e9%85%92%e3%83%88%e3%83%bc%e3%82%af%e3%81%a8%e8%a9%a6%e9%a3%b2%e4%bc%9a/
LOCATION:Japan House\, 101-111 Kensington High Street\, London\, W8 5SA\, United Kingdom
CATEGORIES:Sake Courses,Sake Tasting
ATTACH;FMTTYPE=image/jpeg:https://www.sugidama.co.uk/wp-content/uploads/2019/02/Sake-talk-header-1000x543.jpg
END:VEVENT
BEGIN:VEVENT
DTSTART;TZID=Europe/London:20181203T183000
DTEND;TZID=Europe/London:20181203T210000
DTSTAMP:20260419T193748
CREATED:20181128T113724Z
LAST-MODIFIED:20190425T105317Z
UID:1159-1543861800-1543870800@www.sugidama.co.uk
SUMMARY:GRAND CHRISTMAS SAKE TASTING 2018
DESCRIPTION:Celebrate the end of 2018 bonenkai-style\, with a Grand Tasting of over 60 sakes including medal winners from the 2018 International Wine Challenge and Tosatsuru’s Azure – brewed with pure spring water from deep underground\, at the bottom of the North Pacific Ocean.\nAccompanied by buffet-style food platters \n\n\n\nAnthony Rose will be selling signed copies of his new book ‘Sake and The Wines of Japan’ and there will be one copy to win in our raffle.\nOther raffle prizes include the recently launched Junmai glass from Riedel\, a knife-sharpening class from Kataba knives\, and sake cups from Mashiko.\nRaffle profits will go to one British and one Japanese charity \n\n\n\nPlease bring your own choko if you would like to use it! \n\n\n\n\n\n\n\n\n\n\nShare this:\n				Share on LinkedIn (Opens in new window)\n				LinkedIn\n			\n				Share on Facebook (Opens in new window)\n				Facebook\n			\n				Share on X (Opens in new window)\n				X\n			\n				Share on WhatsApp (Opens in new window)\n				WhatsApp\n			Like this:Like Loading...
URL:https://www.sugidama.co.uk/event/grand-christmas-sake-tasting-2018/
LOCATION:The Star and Garter\, 4 Lower Richmond Road\, London\, SW15 1JN\, United Kingdom
CATEGORIES:Sake Tasting
ATTACH;FMTTYPE=image/jpeg:https://www.sugidama.co.uk/wp-content/uploads/2018/11/BSA-logo.jpg
END:VEVENT
BEGIN:VEVENT
DTSTART;TZID=Europe/London:20181024T130000
DTEND;TZID=Europe/London:20181028T200000
DTSTAMP:20260419T193748
CREATED:20181023T093531Z
LAST-MODIFIED:20190425T105428Z
UID:914-1540386000-1540756800@www.sugidama.co.uk
SUMMARY:Tosa Sake Fair at Japan Centre and ICHIBA
DESCRIPTION:Five breweries from Kochi prefecture (known as Tosa province before the Meiji Restoration) will be offering their sake for tasting at Japan Centre and ICHIBA on October 24-28.  The breweries include Arimitsu Brewery (Akitora)\, Mutemuka\, Tosa Brewery (Keigetsu)\, Tosatsuru\, and Tsukasabotan. Each brewery will have 2-3 products for the tasting. For example\, Tosatsuru brewery will be introducing Tenpyo and Junmai Daiginjo. \nTime: 13:00 – 20:00 (12:00-18:00 on Sunday at ICHIBA) \nIf you would like to know more about the breweries and their products\, a representative from each brewery will be present at both\, Japan Centre and Ichiba on October 24 (Wednesday): \nJapan Centre (Panton Street) \n12:00-14:30 \nTosa Brewery (Keigetsu) \nArimitsu Brewery (Akitora) \n17:00-20:00 \nMutemuka Brewery \nTsukasabotan Brewery \nICHIBA (Westfield Shepherds Bush) \n12:00-14:30 \nMutemuka Brewery \nTsukasabotan Brewery \n17:00-20:00 \nTosa Brewery (Keigetsu) \nArimitsu Brewery (Akitora) \nTosatsuru Brewery will be at both venues from 13:00 till 20:00 on the day. \nShare this:\n				Share on LinkedIn (Opens in new window)\n				LinkedIn\n			\n				Share on Facebook (Opens in new window)\n				Facebook\n			\n				Share on X (Opens in new window)\n				X\n			\n				Share on WhatsApp (Opens in new window)\n				WhatsApp\n			Like this:Like Loading...
URL:https://www.sugidama.co.uk/event/tosa-sake-fair-at-japan-centre-and-ichiba/
LOCATION:Japan Centre\, 35b Panton Street\, London\, SW1Y 4EA\, United Kingdom
CATEGORIES:Sake Tasting
END:VEVENT
BEGIN:VEVENT
DTSTART;TZID=Europe/London:20180930T123000
DTEND;TZID=Europe/London:20180930T170000
DTSTAMP:20260419T193748
CREATED:20180926T085850Z
LAST-MODIFIED:20190425T105438Z
UID:742-1538310600-1538326800@www.sugidama.co.uk
SUMMARY:International Sake Day Tasting at Hedonism Wines
DESCRIPTION:Guests will be able to enjoy over 40 different premium sakes from across Japan. Many of the sakes will be poured by representatives of the respective breweries\, making the tasting a unique chance to discover even more about your favourite brews. \nTickets for this event are £35 with £10 redeemable against any purchase of sake on the day of the tasting. \nShare this:\n				Share on LinkedIn (Opens in new window)\n				LinkedIn\n			\n				Share on Facebook (Opens in new window)\n				Facebook\n			\n				Share on X (Opens in new window)\n				X\n			\n				Share on WhatsApp (Opens in new window)\n				WhatsApp\n			Like this:Like Loading...
URL:https://www.sugidama.co.uk/event/international-sake-day-tasting-at-hedonism-wines/
LOCATION:Hedonism Wines\, 3-7 Davies St.\, London\, W1K 3LD\, United Kingdom
CATEGORIES:Sake Tasting
END:VEVENT
END:VCALENDAR