BEGIN:VCALENDAR
VERSION:2.0
PRODID:-//杉玉 Sugidama: Sake blog - ECPv6.15.17.1//NONSGML v1.0//EN
CALSCALE:GREGORIAN
METHOD:PUBLISH
X-ORIGINAL-URL:https://www.sugidama.co.uk
X-WR-CALDESC:Events for 杉玉 Sugidama: Sake blog
REFRESH-INTERVAL;VALUE=DURATION:PT1H
X-Robots-Tag:noindex
X-PUBLISHED-TTL:PT1H
BEGIN:VTIMEZONE
TZID:Europe/London
BEGIN:DAYLIGHT
TZOFFSETFROM:+0000
TZOFFSETTO:+0100
TZNAME:BST
DTSTART:20180325T010000
END:DAYLIGHT
BEGIN:STANDARD
TZOFFSETFROM:+0100
TZOFFSETTO:+0000
TZNAME:GMT
DTSTART:20181028T010000
END:STANDARD
BEGIN:DAYLIGHT
TZOFFSETFROM:+0000
TZOFFSETTO:+0100
TZNAME:BST
DTSTART:20190331T010000
END:DAYLIGHT
BEGIN:STANDARD
TZOFFSETFROM:+0100
TZOFFSETTO:+0000
TZNAME:GMT
DTSTART:20191027T010000
END:STANDARD
BEGIN:DAYLIGHT
TZOFFSETFROM:+0000
TZOFFSETTO:+0100
TZNAME:BST
DTSTART:20200329T010000
END:DAYLIGHT
BEGIN:STANDARD
TZOFFSETFROM:+0100
TZOFFSETTO:+0000
TZNAME:GMT
DTSTART:20201025T010000
END:STANDARD
END:VTIMEZONE
BEGIN:VEVENT
DTSTART;TZID=Europe/London:20191215T090000
DTEND;TZID=Europe/London:20191215T170000
DTSTAMP:20260419T180008
CREATED:20190802T055835Z
LAST-MODIFIED:20190802T055838Z
UID:2366-1576400400-1576429200@www.sugidama.co.uk
SUMMARY:WSET Level 1 Sake Course
DESCRIPTION:Saké has become all the vogue as Michelin-starred restaurants worldwide are adding this national tipple of Japan to their menus. Join VSF Wine Education for their “WSET Level 1 Award in Saké” course for a hands-on introduction to the wonderful world of saké. You’ll explore the main types and styles of saké through sight\, smell\, and taste\, while also gaining the basic skills to describe sakés accurately and make food and saké pairings. Upon successful completion\, you’ll even receive a WSET certificate recognised by the UK Government! \n\n\n\n\n\n\n\n\n\n\nShare this:\n				Share on LinkedIn (Opens in new window)\n				LinkedIn\n			\n				Share on Facebook (Opens in new window)\n				Facebook\n			\n				Share on X (Opens in new window)\n				X\n			\n				Share on WhatsApp (Opens in new window)\n				WhatsApp\n			Like this:Like Loading...
URL:https://www.sugidama.co.uk/event/wset-level-1-sake-course/
LOCATION:Central London\, United Kingdom
CATEGORIES:Sake Courses
ATTACH;FMTTYPE=image/jpeg:https://www.sugidama.co.uk/wp-content/uploads/2019/02/FB_L1-Sake-JP.jpg
ORGANIZER;CN="VSF Wine Education":MAILTO:info@vsf.wine
END:VEVENT
BEGIN:VEVENT
DTSTART;TZID=Europe/London:20190929T090000
DTEND;TZID=Europe/London:20190929T170000
DTSTAMP:20260419T180009
CREATED:20190802T060229Z
LAST-MODIFIED:20190802T060233Z
UID:2355-1569747600-1569776400@www.sugidama.co.uk
SUMMARY:WSET Level 1 Sake Course
DESCRIPTION:Saké has become all the vogue as Michelin-starred restaurants worldwide are adding this national tipple of Japan to their menus. Join VSF Wine Education for their “WSET Level 1 Award in Saké” course for a hands-on introduction to the wonderful world of saké. You’ll explore the main types and styles of saké through sight\, smell\, and taste\, while also gaining the basic skills to describe sakés accurately and make food and saké pairings. Upon successful completion\, you’ll even receive a WSET certificate recognised by the UK Government! \n\n\n\n\n\n\n\n\n\n\nShare this:\n				Share on LinkedIn (Opens in new window)\n				LinkedIn\n			\n				Share on Facebook (Opens in new window)\n				Facebook\n			\n				Share on X (Opens in new window)\n				X\n			\n				Share on WhatsApp (Opens in new window)\n				WhatsApp\n			Like this:Like Loading...
URL:https://www.sugidama.co.uk/event/wset-level-1-sake-course-2/
LOCATION:Central London\, United Kingdom
CATEGORIES:Sake Courses
ATTACH;FMTTYPE=image/jpeg:https://www.sugidama.co.uk/wp-content/uploads/2019/02/FB_L1-Sake-JP.jpg
ORGANIZER;CN="VSF Wine Education":MAILTO:info@vsf.wine
END:VEVENT
BEGIN:VEVENT
DTSTART;TZID=Europe/London:20190922T140000
DTEND;TZID=Europe/London:20190922T163000
DTSTAMP:20260419T180009
CREATED:20190801T055022Z
LAST-MODIFIED:20190801T060416Z
UID:2344-1569160800-1569169800@www.sugidama.co.uk
SUMMARY:SSA Introductory Sake Professional course in French
DESCRIPTION:The Introductory Saké Professional course is the first step to entering the saké sommelier world. This course represents a unique opportunity for saké enthusiasts or front-of-house staff to further their understanding of saké from its origins and serving etiquette to its ingredients and production\, as well as an introduction to the differences between various types of saké. This course includes a range of the finest sakés available and guests receive a certificate for their participation. \n\n\n\n\n\n\n\n\n\n\n\n\n\n\n\n\n\n\nShare this:\n				Share on LinkedIn (Opens in new window)\n				LinkedIn\n			\n				Share on Facebook (Opens in new window)\n				Facebook\n			\n				Share on X (Opens in new window)\n				X\n			\n				Share on WhatsApp (Opens in new window)\n				WhatsApp\n			Like this:Like Loading...
URL:https://www.sugidama.co.uk/event/ssa-introductory-sake-professional-course-2/
LOCATION:Central London\, United Kingdom
CATEGORIES:Sake Courses
ATTACH;FMTTYPE=image/jpeg:https://www.sugidama.co.uk/wp-content/uploads/2019/07/LOGO-SSA.jpg
ORGANIZER;CN="VSF Wine Education":MAILTO:info@vsf.wine
END:VEVENT
BEGIN:VEVENT
DTSTART;TZID=Europe/London:20190921T140000
DTEND;TZID=Europe/London:20190921T163000
DTSTAMP:20260419T180009
CREATED:20190801T055022Z
LAST-MODIFIED:20190801T060028Z
UID:2335-1569074400-1569083400@www.sugidama.co.uk
SUMMARY:SSA Introductory Sake Professional course
DESCRIPTION:The Introductory Saké Professional course is the first step to entering the saké sommelier world. This course represents a unique opportunity for saké enthusiasts or front-of-house staff to further their understanding of saké from its origins and serving etiquette to its ingredients and production\, as well as an introduction to the differences between various types of saké. This course includes a range of the finest sakés available and guests receive a certificate for their participation. \n\n\n\n\n\n\n\n\n\n\n\n\n\n\n\n\n\n\nShare this:\n				Share on LinkedIn (Opens in new window)\n				LinkedIn\n			\n				Share on Facebook (Opens in new window)\n				Facebook\n			\n				Share on X (Opens in new window)\n				X\n			\n				Share on WhatsApp (Opens in new window)\n				WhatsApp\n			Like this:Like Loading...
URL:https://www.sugidama.co.uk/event/ssa-introductory-sake-professional-course/
LOCATION:Central London\, United Kingdom
CATEGORIES:Sake Courses
ATTACH;FMTTYPE=image/jpeg:https://www.sugidama.co.uk/wp-content/uploads/2019/07/LOGO-SSA.jpg
ORGANIZER;CN="VSF Wine Education":MAILTO:info@vsf.wine
END:VEVENT
BEGIN:VEVENT
DTSTART;TZID=Europe/London:20190920T090000
DTEND;TZID=Europe/London:20190922T170000
DTSTAMP:20260419T180009
CREATED:20190311T221654Z
LAST-MODIFIED:20190425T104849Z
UID:1601-1568970000-1569171600@www.sugidama.co.uk
SUMMARY:International Kikisake-shi Course
DESCRIPTION:International Kikisake-shi course is available\, and indeed suitable\, for enthusiasts\, amateurs\, professionals\, and wine sommeliers. Each course comprises three lessons and a final exam. Students will gain a comprehensive education in: \n\n\n\n\n\n\n\nSake history stories and culture Theoretical concepts behind sake including ingredients\, production and classification Gain hands-on experience through the practical tasting of many types and styles of sake Sake labels and how to serve sake\n\n\n\nThe course runs for three days: 20\,21\,22 September with the exam on 5th October. \n\n\n\n21If you are interested in the course please use the link below for more information on the International Kikisake-shi. \n\n\n\n\n\n\n\n\n\n\nShare this:\n				Share on LinkedIn (Opens in new window)\n				LinkedIn\n			\n				Share on Facebook (Opens in new window)\n				Facebook\n			\n				Share on X (Opens in new window)\n				X\n			\n				Share on WhatsApp (Opens in new window)\n				WhatsApp\n			Like this:Like Loading...
URL:https://www.sugidama.co.uk/event/international-kikisake-shi-course-2/
CATEGORIES:Sake Courses
ATTACH;FMTTYPE=image/png:https://www.sugidama.co.uk/wp-content/uploads/2019/03/enshu.png
END:VEVENT
BEGIN:VEVENT
DTSTART;TZID=Europe/London:20190705T090000
DTEND;TZID=Europe/London:20190707T170000
DTSTAMP:20260419T180009
CREATED:20190311T221654Z
LAST-MODIFIED:20190425T104859Z
UID:1595-1562317200-1562518800@www.sugidama.co.uk
SUMMARY:International Kikisake-shi Course
DESCRIPTION:International Kikisake-shi course is available\, and indeed suitable\, for enthusiasts\, amateurs\, professionals\, and wine sommeliers. Each course comprises three lessons and a final exam. Students will gain a comprehensive education in: \n\n\n\n\n\n\n\nSake history stories and culture Theoretical concepts behind sake including ingredients\, production and classification Gain hands-on experience through the practical tasting of many types and styles of sake Sake labels and how to serve sake\n\n\n\nThe course runs for three days: 5\,6\,7th July with the exam on 20th July. \n\n\n\nIf you are interested in the course please use the link below for more information on the International Kikisake-shi. \n\n\n\n\n\n\n\n\n\n\nShare this:\n				Share on LinkedIn (Opens in new window)\n				LinkedIn\n			\n				Share on Facebook (Opens in new window)\n				Facebook\n			\n				Share on X (Opens in new window)\n				X\n			\n				Share on WhatsApp (Opens in new window)\n				WhatsApp\n			Like this:Like Loading...
URL:https://www.sugidama.co.uk/event/international-kikisake-shi-course/
CATEGORIES:Sake Courses
ATTACH;FMTTYPE=image/png:https://www.sugidama.co.uk/wp-content/uploads/2019/03/enshu.png
END:VEVENT
BEGIN:VEVENT
DTSTART;TZID=Europe/London:20190518T090000
DTEND;TZID=Europe/London:20190526T133000
DTSTAMP:20260419T180009
CREATED:20190218T181015Z
LAST-MODIFIED:20190425T204743Z
UID:1483-1558170000-1558877400@www.sugidama.co.uk
SUMMARY:WSET Level 3 Award in Sake (4-Day Weekend Course)
DESCRIPTION:This is the more in-depth course from VSF. The cool feature about it is that you are going to visit the real sake brewery here in London!\nGet a saké qualification recognised by the UK Government and visit a saké brewery in action\, right in London!! VSF Wine Education is joining hands with Kanpai Sake Brewery (the UK’s first sake brewery) to run the “WSET Level 3 Award in Saké” course this May! This qualification will provide you with a detailed understanding of the production methods that affect the style\, quality and price of saké. Upon completion\, you’ll be able to assess sakés accurately\, and use this information and your understanding of sakés to make authoritative recommendations!\nWhen? 18 + 19 + 25 + 26 May 2019 (Sat + Sun + Sat + Sun; 4 days in total)\n\n\n18 May 2019 (Sat) 09:00-17:00\n19 May 2019 (Sun) 09:00-17:00 at Kanpai Sake Brewery & Taproom\n\n(between 20 May and 24 May: unlimited study support and exercise corrections via email/WhatsApp)\n25 May 2019 (Sat) 09:00-17:00 (including revision & mock exam)\n26 May 2019 (Sun) 09:00-13:30 (including final revision and a 2.5-hour exam)\n\n\n\n\n\nShare this:\n				Share on LinkedIn (Opens in new window)\n				LinkedIn\n			\n				Share on Facebook (Opens in new window)\n				Facebook\n			\n				Share on X (Opens in new window)\n				X\n			\n				Share on WhatsApp (Opens in new window)\n				WhatsApp\n			Like this:Like Loading...
URL:https://www.sugidama.co.uk/event/wset-level-3-award-in-sake-4-day-weekend-course/
LOCATION:Central London\, United Kingdom
CATEGORIES:Sake Courses
ATTACH;FMTTYPE=image/jpeg:https://www.sugidama.co.uk/wp-content/uploads/2019/02/FB_L3-Sake-JP.jpg
ORGANIZER;CN="VSF Wine Education":MAILTO:info@vsf.wine
END:VEVENT
BEGIN:VEVENT
DTSTART;TZID=Europe/London:20190317T090000
DTEND;TZID=Europe/London:20190317T170000
DTSTAMP:20260419T180009
CREATED:20190218T175322Z
LAST-MODIFIED:20190425T105045Z
UID:1478-1552813200-1552842000@www.sugidama.co.uk
SUMMARY:WSET Level 1 Award in Sake (1-Day Weekend Course)
DESCRIPTION:I am always happy to promote sake education on my blog. The more people learn about sake\, the more potential readers I might get. It’s great that there are new sake education providers emerge in London. I’m sure that there is room for even more sake courses. \nSaké has become all the vogue as Michelin-starred restaurants worldwide are adding this national tipple of Japan to their menus. Join VSF Wine Education for their “WSET Level 1 Award in Saké” course this March for a hands-on introduction to the wonderful world of saké. You’ll explore the main types and styles of saké through sight\, smell\, and taste\, while also gaining the basic skills to describe sakés accurately\, and make food and saké pairings. Upon successful completion\, you’ll even receive a WSET certificate recognised by the UK Government! \nShare this:\n				Share on LinkedIn (Opens in new window)\n				LinkedIn\n			\n				Share on Facebook (Opens in new window)\n				Facebook\n			\n				Share on X (Opens in new window)\n				X\n			\n				Share on WhatsApp (Opens in new window)\n				WhatsApp\n			Like this:Like Loading...
URL:https://www.sugidama.co.uk/event/wset-level-1-award-in-sake-1-day-weekend-course/
LOCATION:Central London\, United Kingdom
CATEGORIES:Sake Courses
ATTACH;FMTTYPE=image/jpeg:https://www.sugidama.co.uk/wp-content/uploads/2019/02/FB_L1-Sake-JP.jpg
ORGANIZER;CN="VSF Wine Education":MAILTO:info@vsf.wine
END:VEVENT
BEGIN:VEVENT
DTSTART;TZID=Europe/London:20190221T123000
DTEND;TZID=Europe/London:20190223T193000
DTSTAMP:20260419T180009
CREATED:20190221T070411Z
LAST-MODIFIED:20190425T105250Z
UID:1496-1550752200-1550950200@www.sugidama.co.uk
SUMMARY:TASTINGS & TALK  Sake Week at Japan House  日本酒トークと試飲会
DESCRIPTION:To celebrate the start of London Sake Week organized by JFOODO\, Japan House is collaborating with NTA to offer sake tasting over three days. \nThere will also be an introduction to sake and tutored sake tasting session for those who would like to gain a deeper understanding of this versatile alternative to wine. \nSake tastings:\nThursday\, Friday & Saturday 21-23 February\, 12:30-15:30 & 17:00-19:30\nThe Stand on the Ground Floor at Japan House \nShare this:\n				Share on LinkedIn (Opens in new window)\n				LinkedIn\n			\n				Share on Facebook (Opens in new window)\n				Facebook\n			\n				Share on X (Opens in new window)\n				X\n			\n				Share on WhatsApp (Opens in new window)\n				WhatsApp\n			Like this:Like Loading...
URL:https://www.sugidama.co.uk/event/tastings-talk-sake-week-at-japan-house-%e6%97%a5%e6%9c%ac%e9%85%92%e3%83%88%e3%83%bc%e3%82%af%e3%81%a8%e8%a9%a6%e9%a3%b2%e4%bc%9a/
LOCATION:Japan House\, 101-111 Kensington High Street\, London\, W8 5SA\, United Kingdom
CATEGORIES:Sake Courses,Sake Tasting
ATTACH;FMTTYPE=image/jpeg:https://www.sugidama.co.uk/wp-content/uploads/2019/02/Sake-talk-header-1000x543.jpg
END:VEVENT
END:VCALENDAR