BEGIN:VCALENDAR
VERSION:2.0
PRODID:-//杉玉 Sugidama: Sake blog - ECPv6.15.17.1//NONSGML v1.0//EN
CALSCALE:GREGORIAN
METHOD:PUBLISH
X-WR-CALNAME:杉玉 Sugidama: Sake blog
X-ORIGINAL-URL:https://www.sugidama.co.uk
X-WR-CALDESC:Events for 杉玉 Sugidama: Sake blog
REFRESH-INTERVAL;VALUE=DURATION:PT1H
X-Robots-Tag:noindex
X-PUBLISHED-TTL:PT1H
BEGIN:VTIMEZONE
TZID:Europe/London
BEGIN:DAYLIGHT
TZOFFSETFROM:+0000
TZOFFSETTO:+0100
TZNAME:BST
DTSTART:20180325T010000
END:DAYLIGHT
BEGIN:STANDARD
TZOFFSETFROM:+0100
TZOFFSETTO:+0000
TZNAME:GMT
DTSTART:20181028T010000
END:STANDARD
BEGIN:DAYLIGHT
TZOFFSETFROM:+0000
TZOFFSETTO:+0100
TZNAME:BST
DTSTART:20190331T010000
END:DAYLIGHT
BEGIN:STANDARD
TZOFFSETFROM:+0100
TZOFFSETTO:+0000
TZNAME:GMT
DTSTART:20191027T010000
END:STANDARD
BEGIN:DAYLIGHT
TZOFFSETFROM:+0000
TZOFFSETTO:+0100
TZNAME:BST
DTSTART:20200329T010000
END:DAYLIGHT
BEGIN:STANDARD
TZOFFSETFROM:+0100
TZOFFSETTO:+0000
TZNAME:GMT
DTSTART:20201025T010000
END:STANDARD
END:VTIMEZONE
BEGIN:VEVENT
DTSTART;TZID=Europe/London:20190625T183000
DTEND;TZID=Europe/London:20190625T203000
DTSTAMP:20260419T175859
CREATED:20190614T092500Z
LAST-MODIFIED:20190614T092504Z
UID:2227-1561487400-1561494600@www.sugidama.co.uk
SUMMARY:British Sake Association A mid-summer celebration Turkish Style
DESCRIPTION:To kick off the celebration Honami Matsumoto\, Keigetsu Ambassador\, will be offering the award-winning sparkling sake “John” from Keigetsu. \n\n\n\nThere’s lots to celebrate: mid-summer’s day; the new era of Reiwa; and new sakes from Tengu Sake and SamSake\, including the IWC Trophy Honjozo\, and Koimari’s new Junmai. Be the first to try these new sakes in Ollie’s and Sarah’s listings! \n\n\n\n\n\n\n\n\n\n\n\n\n\n\n\n\n\n\nShare this:\n				Share on LinkedIn (Opens in new window)\n				LinkedIn\n			\n				Share on Facebook (Opens in new window)\n				Facebook\n			\n				Share on X (Opens in new window)\n				X\n			\n				Share on WhatsApp (Opens in new window)\n				WhatsApp\n			Like this:Like Loading...
URL:https://www.sugidama.co.uk/event/british-sake-association-a-mid-summer-celebration-turkish-style/
LOCATION:Terrace Turkish Restaurant\, 61 Chapel Market\, London\, N1 9ER\, United Kingdom
CATEGORIES:Sake and Food Pairing
ATTACH;FMTTYPE=image/jpeg:https://www.sugidama.co.uk/wp-content/uploads/2019/06/img_2552-e1560252069970.jpg
END:VEVENT
BEGIN:VEVENT
DTSTART;TZID=Europe/London:20190222T000000
DTEND;TZID=Europe/London:20190306T235900
DTSTAMP:20260419T175859
CREATED:20190221T065631Z
LAST-MODIFIED:20190425T105211Z
UID:1493-1550793600-1551916740@www.sugidama.co.uk
SUMMARY:LONDON SAKE WEEK: Experience the Harmony of FOOD and SAKE
DESCRIPTION:“LONDON SAKE WEEK” will be held at restaurants in the heart of London from Friday\, February 22nd to Sunday\, March 3rd. During SAKE WEEK\, participating restaurants offer customers ordering from a special menu a free cup of sake. \nDo you think SAKE goes only with sushi or sashimi? In fact\, SAKE’s various flavours\, textures and temperatures perfectly match all kinds of foods including oysters\, cheese\, prosciutto\, fish & chips\, calamari. Discover new ways to enjoy SAKE in LONDON this winter! \nShare this:\n				Share on LinkedIn (Opens in new window)\n				LinkedIn\n			\n				Share on Facebook (Opens in new window)\n				Facebook\n			\n				Share on X (Opens in new window)\n				X\n			\n				Share on WhatsApp (Opens in new window)\n				WhatsApp\n			Like this:Like Loading...
URL:https://www.sugidama.co.uk/event/london-sake-week-experience-the-harmony-of-food-and-sake/
CATEGORIES:Sake and Food Pairing
ATTACH;FMTTYPE=image/jpeg:https://www.sugidama.co.uk/wp-content/uploads/2019/02/201902_sakeweek.jpg
END:VEVENT
END:VCALENDAR