BEGIN:VCALENDAR
VERSION:2.0
PRODID:-//杉玉 Sugidama: Sake blog - ECPv6.15.17.1//NONSGML v1.0//EN
CALSCALE:GREGORIAN
METHOD:PUBLISH
X-WR-CALNAME:杉玉 Sugidama: Sake blog
X-ORIGINAL-URL:https://www.sugidama.co.uk
X-WR-CALDESC:Events for 杉玉 Sugidama: Sake blog
REFRESH-INTERVAL;VALUE=DURATION:PT1H
X-Robots-Tag:noindex
X-PUBLISHED-TTL:PT1H
BEGIN:VTIMEZONE
TZID:UTC
BEGIN:STANDARD
TZOFFSETFROM:+0000
TZOFFSETTO:+0000
TZNAME:UTC
DTSTART:20170101T000000
END:STANDARD
END:VTIMEZONE
BEGIN:VEVENT
DTSTART;TZID=UTC:20180930T100000
DTEND;TZID=UTC:20180930T200000
DTSTAMP:20260420T024420
CREATED:20180504T075021Z
LAST-MODIFIED:20190425T105655Z
UID:248-1538301600-1538337600@www.sugidama.co.uk
SUMMARY:JAPAN MATSURI 2018
DESCRIPTION:Japan Matsuri is an event celebrating Japanese culture\, held annually in London. Come and join us this year from 10am – 8pm on Sunday 30 September 2018 !! \nShare this:\n				Share on LinkedIn (Opens in new window)\n				LinkedIn\n			\n				Share on Facebook (Opens in new window)\n				Facebook\n			\n				Share on X (Opens in new window)\n				X\n			\n				Share on WhatsApp (Opens in new window)\n				WhatsApp\n			Like this:Like Loading...
URL:https://www.sugidama.co.uk/event/japan-matsuri-2018/
LOCATION:Trafalgar Square\, Trafalgar Square\, London\, WC2N 5DN\, United Kingdom
CATEGORIES:Japanese Culture
END:VEVENT
BEGIN:VEVENT
DTSTART;TZID=UTC:20180729T123000
DTEND;TZID=UTC:20180729T180000
DTSTAMP:20260420T024420
CREATED:20180705T132937Z
LAST-MODIFIED:20190425T105728Z
UID:440-1532867400-1532887200@www.sugidama.co.uk
SUMMARY:Japanese Garden Party
DESCRIPTION:Organised by the Japan Society and the Embassy of Japan\, the Japanese Gaden Party will feature Japanese live music\, family activities and Japanese food to celebrate the regeneration of the Japanese garden in Hammersmith Park! Expect taiko drumming\, ramen\, and family-friendly activities such as origami and calligraphy\, alongside much more! \nThe day will end with two very special performances by contemporary Japanese artists Ichi and Hatis Noit. We hope you can join us for what is bound to be a fantastic summer celebration of all things Japanese! \nImage courtesy of the Sequins and Cherry Blossom blog. \nShare this:\n				Share on LinkedIn (Opens in new window)\n				LinkedIn\n			\n				Share on Facebook (Opens in new window)\n				Facebook\n			\n				Share on X (Opens in new window)\n				X\n			\n				Share on WhatsApp (Opens in new window)\n				WhatsApp\n			Like this:Like Loading...
URL:https://www.sugidama.co.uk/event/japanese-garden-party/
LOCATION:Hammersmith Park – Japanese Garden\, South Africa Road White City\, Shepherd’s Bush\, London\, W12 7NU\, United Kingdom
CATEGORIES:Japanese Culture
ATTACH;FMTTYPE=image/jpeg:https://www.sugidama.co.uk/wp-content/uploads/2018/07/Garden-Party-website.jpg
ORGANIZER;CN="The Japan Society":MAILTO:events@japansociety.org.uk
END:VEVENT
BEGIN:VEVENT
DTSTART;TZID=UTC:20180623T100000
DTEND;TZID=UTC:20180623T180000
DTSTAMP:20260420T024420
CREATED:20180501T110452Z
LAST-MODIFIED:20190425T105739Z
UID:246-1529748000-1529776800@www.sugidama.co.uk
SUMMARY:Okinawa Day 2018
DESCRIPTION:Okinawa Day is an outdoor event at Spitalfields in London to celebrate Okinawan culture. \nShare this:\n				Share on LinkedIn (Opens in new window)\n				LinkedIn\n			\n				Share on Facebook (Opens in new window)\n				Facebook\n			\n				Share on X (Opens in new window)\n				X\n			\n				Share on WhatsApp (Opens in new window)\n				WhatsApp\n			Like this:Like Loading...
URL:https://www.sugidama.co.uk/event/okinawa-day-2018/
LOCATION:Spitalfields Market\, Brushfield Street\, Spitalfields\, London\, E1 6AA\, United Kingdom
CATEGORIES:Japanese Culture
END:VEVENT
END:VCALENDAR